Workbook
Name FG: #REF!
Name vbg: #REF!
Name XDO: #REF!
Name XDO_?ACTDOMCODE?: #REF!
Name XDO_?ACTDOMCODE?: #REF!
Name XDO_?ACTDOMNAME?: #REF!
Name XDO_?BELONG210FL?: #REF!
Name XDO_?CSMCTGY_NAME?: #REF!
Name XDO_?CSMCTGY_NAME?: #REF!
Name XDO_?inst_Fullname?: #REF!
Name XDO_?inst_Fullname?: #REF!
Name XDO_?INST_NAME?: #REF!
Name XDO_?INST_NAME?: #REF!
Name XDO_?INSTKND_NAME?: #REF!
Name XDO_?LGLACT_APPROVEDBY?: #REF!
Name XDO_?LGLACT_APPRVDAT?: #REF!
Name XDO_?LGLACT_NAME?: #REF!
Name XDO_?NAME_1?: #REF!
Name XDO_?NAME_1?: #REF!
Name XDO_?NAME_2?: #REF!
Name XDO_?NAME_2?: #REF!
Name XDO_?NAME_CODE?: #REF!
Name XDO_?NAME_CODE?: #REF!
Name XDO_?NAME_NAME?: #REF!
Name XDO_?NAME_NAME?: #REF!
Name XDO_?NCSRLYBELONG210FL?: #REF!
Name XDO_?NPA_DESCRIPTIONS?: #REF!
Name XDO_?NPA_DESCRIPTIONS?: #REF!
Name XDO_?PBL_NAMES?: #REF!
Name XDO_?QI_NAME?: #REF!
Name XDO_?QI_NAME?: #REF!
Name XDO_?RCA_CODE?: #REF!
Name XDO_?RCA_CODE?: #REF!
Name XDO_?REGRNUMBER?: #REF!
Name XDO_?REGRNUMBER?: #REF!
Name XDO_?ROWNUMBER?: #REF!
Name XDO_?RUCLSPRECACS_CODE?: #REF!
Name XDO_?SC_NAME_1?: #REF!
Name XDO_?SC_NAME_1?: #REF!
Name XDO_?SC_NAME_2?: #REF!
Name XDO_?SC_NAME_2?: #REF!
Name XDO_?SC_NAME_3?: #REF!
Name XDO_?SC_NAME_3?: #REF!
Name XDO_?Service_Belong210FL?: #REF!
Name XDO_?Service_Belong210FL?: #REF!
Name XDO_?Service_NcsrlyBelong210FL?: #REF!
Name XDO_?Service_NcsrlyBelong210FL?: #REF!
Name XDO_?SVCKIND?: #REF!
Name XDO_?SVCKIND?: #REF!
Name XDO_?SVCPAID?: #REF!
Name XDO_?SVCPAID?: #REF!
Name XDO_?VOLIND_NAME?: #REF!
Name XDO_?VOLIND_NAME?: #REF!
Name XDO_?XDOFIELD1?: #REF!
Name XDO_?XDOFIELD1?: #REF!
Name XDO_?XDOFIELD2?: #REF!
Name XDO_?XDOFIELD2?: #REF!
Name XDO_?XDOFIELD3?: #REF!
Name XDO_?XDOFIELD3?: #REF!
Name XDO_GROUP_?HEADER?: #REF!

Sheet часть 1.1 ПК
A1: Часть 1. Сведения об оказываемых государственных услугах
G2: Раздел | H2: 1
A4: 1. Наименование государственной услуги | L4: Код по общероссийскому базовому перечню услуг или региональному перечню государственных (муниципальных) услуг и работ | N4: ББ60
A5: Реализация дополнительных профессиональных программ повышения квалификации
A6: (из общероссийских базовых перечней услуг или регионального перечня государственных (муниципальных) услуг и работ)
A7: 2. Категории потребителей государственной услуги
A8: Физические лица, имеющие или получающие среднее профессиональное и (или) высшее образование
A10: 3. Показатели, характеризующие объем и (или) качество государственной услуги
A11: 3.1. Показатели, характеризующие качество государственной услуги
A13: Уникальный номер реестровой записи | B13: Показатель, характеризующий содержание государственной услуги (по справочникам) | E13: Показатель, характеризующий условия (формы) оказания государственной услуги (по справочникам) | G13: Показатель качества государственной услуги | J13: Значения показателей качества государственной услуги | M13: Допустимые (возможные) отклонения от установленных показателей качества государственной услуги
B14: ____________ (наименование показателя ) | C14: ____________ (наименование показателя ) | D14: ____________ (наименование показателя ) | E14: ____________ (наименование показателя ) | F14: ____________ (наименование показателя ) | G14: наименование показателя | H14: единица измерения | J14: 2026 год (очередной финансовый год) | K14: 2027 год (1-й год планового периода) | L14: 2028 год (2-й год планового периода) | M14: в процентах | N14: в абсолютных показателях
H15: наимено-вание | I15: код по ОКЕИ | K15: (1-й год планового периода)
A17: 1 | B17: 2 | C17: 3 | D17: 4 | E17: 5 | F17: 6 | G17: 7 | H17: 8 | I17: 9 | J17: 10 | K17: 11 | L17: 12 | M17: 13 | N17: 14
A21: 3.2. Показатели, характеризующие объем государственной услуги
A23: Уникальный номер реестровой записи | B23: Показатель, характеризующий содержание государственной услуги (по справочникам) | E23: Показатель, характеризующий условия (формы) оказания государственной услуги (по справочникам) | G23: Показатель объема государственной услуги | J23: Значение показателя объема государственной услуги | M23: Допустимые (возможные) отклонения от установленных показателей объема государственной услуги
B24: Содержание услуги 1 (Категория потребителей) | C24: Содержание услуги 2 (Виды образовательных программ) | D24: Содержание услуги 3 (наименование показателя ) | E24: Условия (формы) оказания услуги 1 (Формы образования и формы реализации образовательных программ) | F24: Условия (формы) оказания услуги 2 (наименование показателя) | G24: наименование показателя | H24: единица измерения | J24: 2026 год (очередной финансовый год) | K24: 2027 год (1-й год планового периода) | L24: 2028 год (2-й год планового периода) | M24: в процентах | N24: в абсолютных показателях
H25: наименование | I25: код по ОКЕИ | K25: (1-й год планового периода)
A27: 1 | B27: 2 | C27: 3 | D27: 4 | E27: 5 | F27: 6 | G27: 7 | H27: 8 | I27: 9 | J27: 10 | K27: 11 | L27: 12 | M27: 13 | N27: 14
A28: 804200О.99.0.ББ60АБ25001 | B28: не указано | C28: не указано | E28: очно-заочная с применением дистанционных образовательных технологий | G28: количество человеко-часов | H28: человеко-час | I28: 539 | J28: 228600 | K28: 228600 | L28: 228600 | M28: =ROUND(N28/J28*100,1) -> 5 | N28: =ROUNDDOWN(J28*0.05,0) -> 11430
A29: 804200О.99.0.ББ60АБ24001 | B29: не указано | C29: не указано | E29: очно-заочная | G29: количество человеко-часов | H29: человеко-час | I29: 539 | J29: 35100 | K29: 35100 | L29: 35100 | M29: =ROUND(N29/J29*100,1) -> 5 | N29: =ROUNDDOWN(J29*0.05,0) -> 1755
A30: 804200О.99.0.ББ60АБ31001 | B30: не указано | C30: не указано | E30: заочная с применением дистанционных образовательных технологий и электронного обучения | G30: количество человеко-часов | H30: человеко-час | I30: 539 | J30: 1800 | K30: 1800 | L30: 1800 | M30: =ROUND(N30/J30*100,1) -> 5 | N30: =ROUNDDOWN(J30*0.05,0) -> 90
A31: 804200О.99.0.ББ60АБ28001 | B31: не указано | C31: не указано | E31: заочная | G31: количество человеко-часов | H31: человеко-час | I31: 539 | J31: 1584 | K31: 1584 | L31: 1584 | M31: =ROUND(N31/J31*100,1) -> 5 | N31: =ROUNDDOWN(J31*0.05,0) -> 79
R32: =SUM(#REF!) -> #REF! | S32: =SUM(#REF!) -> #REF! | T32: =SUM(#REF!) -> #REF!
A33: 4. Нормативные правовые акты, устанавливающие размер платы (цену, тариф) либо порядок ее (его) установления | R33: =R32+#REF! -> #REF! | S33: =S32+#REF! -> #REF! | T33: =T32+#REF! -> #REF!
A35: Нормативный правовой акт
A36: вид | D36: принявший орган | F36: дата | H36: номер | K36: наименование
A37: 1 | D37: 2 | F37: 3 | H37: 4 | K37: 5
A40: 4.1. Предельные значения цен (тарифов)
A42: Наименование услуги | D42: Цена (тариф), единица измерения
A43: 1 | D43: 2
A46: 5. Порядок оказания государственной услуги
A47: 5.1. Нормативные правовые акты, регулирующие порядок оказания государственной услуги
A49: Федеральный закон от 21.12.2021 №414-ФЗ "Об общих принципах организации законодательных (представительных) и исполнительных органов государственной власти субъектов Российской Федерации"
A50: Федеральный закон от 29.12.2012 №273-ФЗ "Об образовании в Российской Федерации"
A51: Федеральный закон от 06.10.2003 №131-ФЗ "Об общих принципах организации местного самоуправления в Российской Федерации"
A52: Приказ Минобрнауки РФ от 01.07.2013 №499 "Об утверждении Порядка организации и осуществления образовательной деятельности по дополнительным профессиональным программам"
A53: (наименование, номер и дата нормативного правового акта)
A55: 5.2. Порядок информирования потенциальных потребителей государственной услуги
A57: Способ информирования | E57: Состав размещаемой (доводимой) информации | M57: Частота обновления информации
A58: 1 | E58: 2 | M58: 3
...

Sheet часть 1.2 ПМПК НО
A1: Часть 1. Сведения об оказываемых государственных услугах
G2: Раздел | H2: 2
A4: 1. Наименование государственной услуги | L4: Код по общероссийскому базовому перечню услуг или региональному перечню государственных (муниципальных) услуг и работ | N4: БА84
A5: Психолого-медико-педагогическое обследование детей
A6: (из общероссийских базовых перечней услуг или регионального перечня государственных (муниципальных) услуг и работ)
A7: 2. Категории потребителей государственной услуги
A8: Физические лица
A10: 3. Показатели, характеризующие объем и (или) качество государственной услуги
A11: 3.1. Показатели, характеризующие качество государственной услуги
A13: Уникальный номер реестровой записи | B13: Показатель, характеризующий содержание государственной услуги (по справочникам) | E13: Показатель, характеризующий условия (формы) оказания государственной услуги (по справочникам) | G13: Показатель качества государственной услуги | J13: Значения показателей качества государственной услуги | M13: Допустимые (возможные) отклонения от установленных показателей качества государственной услуги
B14: ____________ (наименование показателя ) | C14: ____________ (наименование показателя ) | D14: ____________ (наименование показателя ) | E14: ____________ (наименование показателя ) | F14: ____________ (наименование показателя ) | G14: наименование показателя | H14: единица измерения | J14: 2026 год (очередной финансовый год) | K14: 2027 год (1-й год планового периода) | L14: 2028 год (2-й год планового периода) | M14: в процентах | N14: в абсолютных показателях
H15: наимено-вание | I15: код по ОКЕИ | K15: (1-й год планового периода)
A17: 1 | B17: 2 | C17: 3 | D17: 4 | E17: 5 | F17: 6 | G17: 7 | H17: 8 | I17: 9 | J17: 10 | K17: 11 | L17: 12 | M17: 13 | N17: 14
A21: 3.2. Показатели, характеризующие объем государственной услуги
A23: Уникальный номер реестровой записи | B23: Показатель, характеризующий содержание государственной услуги (по справочникам) | E23: Показатель, характеризующий условия (формы) оказания государственной услуги (по справочникам) | G23: Показатель объема государственной услуги | J23: Значение показателя объема государственной услуги | M23: Допустимые (возможные) отклонения от установленных показателей объема государственной услуги
B24: Содержание услуги 1 (наименование показателя ) | C24: Содержание услуги 2 (наименование показателя ) | D24: Содержание услуги 3 (наименование показателя ) | E24: Условия (формы) оказания услуги 1 (Условие 1 для 34 вида деятельности) | F24: Условия (формы) оказания услуги 2 (наименование показателя) | G24: наименование показателя | H24: единица измерения | J24: 2026 год (очередной финансовый год) | K24: 2027 год (1-й год планового периода) | L24: 2028 год (2-й год планового периода) | M24: в процентах | N24: в абсолютных показателях
H25: наименование | I25: код по ОКЕИ | K25: (1-й год планового периода)
A27: 1 | B27: 2 | C27: 3 | D27: 4 | E27: 5 | F27: 6 | G27: 7 | H27: 8 | I27: 9 | J27: 10 | K27: 11 | L27: 12 | M27: 13 | N27: 14
A28: 880900О.99.0.БА84АА00000 | E28: не указано | G28: число обучающихся | H28: человек | I28: 792 | J28: =200+6 -> 206 | K28: =200+6 -> 206 | L28: =200+6 -> 206 | M28: =ROUND(N28/J28*100,1) -> 4.9 | N28: =ROUNDDOWN(J28*0.05,0) -> 10
R29: =SUM(#REF!) -> #REF! | S29: =SUM(#REF!) -> #REF! | T29: =SUM(#REF!) -> #REF!
A30: 4. Нормативные правовые акты, устанавливающие размер платы (цену, тариф) либо порядок ее (его) установления | R30: =R29+#REF! -> #REF! | S30: =S29+#REF! -> #REF! | T30: =T29+#REF! -> #REF!
A32: Нормативный правовой акт
A33: вид | D33: принявший орган | F33: дата | H33: номер | K33: наименование
A34: 1 | D34: 2 | F34: 3 | H34: 4 | K34: 5
A44: 4.1. Предельные значения цен (тарифов)
A46: Наименование услуги | D46: Цена (тариф), единица измерения
A47: 1 | D47: 2
A50: 5. Порядок оказания государственной услуги
A51: 5.1. Нормативные правовые акты, регулирующие порядок оказания государственной услуги
A53: Федеральный закон от 29.12.2012 №273-ФЗ "Об образовании в Российской Федерации"
A54: Федеральный закон от 24.06.1999 №120-ФЗ "Об основах системы профилактики безнадзорности и правонарушений несовершеннолетних"
A57: (наименование, номер и дата нормативного правового акта)
A59: 5.2. Порядок информирования потенциальных потребителей государственной услуги
A61: Способ информирования | E61: Состав размещаемой (доводимой) информации | M61: Частота обновления информации
A62: 1 | E62: 2 | M62: 3
A63: Информационно-телекоммуникационные сети общего пользования (веб-сайт, веб-портал) | E63: Информация об условиях приема и обучения, образцы требуемых документов; нормативные документы | M63: не реже 1 раза в год
A64: Средства массовой информации | E64: Информация об условиях приема и обучения, образцы требуемых документов; нормативные документы | M64: не реже 1 раза в год
A65: Информационные стенды | E65: Информация об условиях приема и обучения, образцы требуемых документов; нормативные документы | M65: не реже 1 раза в год
A66: Иные предусмотренные способы информирования | E66: Информация об условиях приема и обучения, образцы требуемых документов; нормативные документы | M66: не реже 1 раза в год

Sheet часть 1.3 ПМПК ОО
A1: Часть 1. Сведения об оказываемых государственных услугах
G2: Раздел | H2: 3
A4: 1. Наименование государственной услуги | L4: Код по общероссийскому базовому перечню услуг или региональному перечню государственных (муниципальных) услуг и работ | N4: БА98
A5: Психолого-медико-педагогическое обследование детей
A6: (из общероссийских базовых перечней услуг или регионального перечня государственных (муниципальных) услуг и работ)
A7: 2. Категории потребителей государственной услуги
A8: Физические лица
A10: 3. Показатели, характеризующие объем и (или) качество государственной услуги
A11: 3.1. Показатели, характеризующие качество государственной услуги
A13: Уникальный номер реестровой записи | B13: Показатель, характеризующий содержание государственной услуги (по справочникам) | E13: Показатель, характеризующий условия (формы) оказания государственной услуги (по справочникам) | G13: Показатель качества государственной услуги | J13: Значения показателей качества государственной услуги | M13: Допустимые (возможные) отклонения от установленных показателей качества государственной услуги
B14: ____________ (наименование показателя ) | C14: ____________ (наименование показателя ) | D14: ____________ (наименование показателя ) | E14: ____________ (наименование показателя ) | F14: ____________ (наименование показателя ) | G14: наименование показателя | H14: единица измерения | J14: 2026 год (очередной финансовый год) | K14: 2027 год (1-й год планового периода) | L14: 2028 год (2-й год планового периода) | M14: в процентах | N14: в абсолютных показателях
H15: наимено-вание | I15: код по ОКЕИ | K15: (1-й год планового периода)
A17: 1 | B17: 2 | C17: 3 | D17: 4 | E17: 5 | F17: 6 | G17: 7 | H17: 8 | I17: 9 | J17: 10 | K17: 11 | L17: 12 | M17: 13 | N17: 14
A21: 3.2. Показатели, характеризующие объем государственной услуги
A23: Уникальный номер реестровой записи | B23: Показатель, характеризующий содержание государственной услуги (по справочникам) | E23: Показатель, характеризующий условия (формы) оказания государственной услуги (по справочникам) | G23: Показатель объема государственной услуги | J23: Значение показателя объема государственной услуги | M23: Допустимые (возможные) отклонения от установленных показателей объема государственной услуги
B24: Содержание услуги 1 (наименование показателя ) | C24: Содержание услуги 2 (наименование показателя ) | D24: Содержание услуги 3 (наименование показателя ) | E24: Условия (формы) оказания услуги 1 (Место получения услуги) | F24: Условия (формы) оказания услуги 2 (наименование показателя) | G24: наименование показателя | H24: единица измерения | J24: 2026 год (очередной финансовый год) | K24: 2027 год (1-й год планового периода) | L24: 2028 год (2-й год планового периода) | M24: в процентах | N24: в абсолютных показателях
H25: наименование | I25: код по ОКЕИ | K25: (1-й год планового периода)
A27: 1 | B27: 2 | C27: 3 | D27: 4 | E27: 5 | F27: 6 | G27: 7 | H27: 8 | I27: 9 | J27: 10 | K27: 11 | L27: 12 | M27: 13 | N27: 14
A28: 880900О.99.0.БА98АА00000 | E28: не указано | G28: число обучающихся | H28: человек | I28: 792 | J28: =280+31 -> 311 | K28: =280+31 -> 311 | L28: =280+31 -> 311 | M28: =ROUND(N28/J28*100,1) -> 4.8 | N28: =ROUNDDOWN(J28*0.05,0) -> 15
R29: =SUM(#REF!) -> #REF! | S29: =SUM(#REF!) -> #REF! | T29: =SUM(#REF!) -> #REF!
A30: 4. Нормативные правовые акты, устанавливающие размер платы (цену, тариф) либо порядок ее (его) установления | R30: =R29+#REF! -> #REF! | S30: =S29+#REF! -> #REF! | T30: =T29+#REF! -> #REF!
A32: Нормативный правовой акт
A33: вид | D33: принявший орган | F33: дата | H33: номер | K33: наименование
A34: 1 | D34: 2 | F34: 3 | H34: 4 | K34: 5
A44: 4.1. Предельные значения цен (тарифов)
A46: Наименование услуги | D46: Цена (тариф), единица измерения
A47: 1 | D47: 2
A50: 5. Порядок оказания государственной услуги
A51: 5.1. Нормативные правовые акты, регулирующие порядок оказания государственной услуги
A53: Федеральный закон от 29.12.2012 №273-ФЗ "Об образовании в Российской Федерации"
A54: Федеральный закон от 24.06.1999 №120-ФЗ "Об основах системы профилактики безнадзорности и правонарушений несовершеннолетних"
A57: (наименование, номер и дата нормативного правового акта)
A59: 5.2. Порядок информирования потенциальных потребителей государственной услуги
A61: Способ информирования | E61: Состав размещаемой (доводимой) информации | M61: Частота обновления информации
A62: 1 | E62: 2 | M62: 3
A63: Информационно-телекоммуникационные сети общего пользования (веб-сайт, веб-портал) | E63: Информация об условиях приема и обучения, образцы требуемых документов; нормативные документы | M63: не реже 1 раза в год
A64: Средства массовой информации | E64: Информация об условиях приема и обучения, образцы требуемых документов; нормативные документы | M64: не реже 1 раза в год
A65: Информационные стенды | E65: Информация об условиях приема и обучения, образцы требуемых документов; нормативные документы | M65: не реже 1 раза в год
A66: Иные предусмотренные способы информирования | E66: Информация об условиях приема и обучения, образцы требуемых документов; нормативные документы | M66: не реже 1 раза в год

Sheet часть 1.4 ПМПК СО
A1: Часть 1. Сведения об оказываемых государственных услугах
G2: Раздел | H2: 4
A4: 1. Наименование государственной услуги | L4: Код по общероссийскому базовому перечню услуг или региональному перечню государственных (муниципальных) услуг и работ | N4: ББ13
A5: Психолого-медико-педагогическое обследование детей
A6: (из общероссийских базовых перечней услуг или регионального перечня государственных (муниципальных) услуг и работ)
A7: 2. Категории потребителей государственной услуги
A8: Физические лица
A10: 3. Показатели, характеризующие объем и (или) качество государственной услуги
A11: 3.1. Показатели, характеризующие качество государственной услуги
A13: Уникальный номер реестровой записи | B13: Показатель, характеризующий содержание государственной услуги (по справочникам) | E13: Показатель, характеризующий условия (формы) оказания государственной услуги (по справочникам) | G13: Показатель качества государственной услуги | J13: Значения показателей качества государственной услуги | M13: Допустимые (возможные) отклонения от установленных показателей качества государственной услуги
B14: ____________ (наименование показателя ) | C14: ____________ (наименование показателя ) | D14: ____________ (наименование показателя ) | E14: ____________ (наименование показателя ) | F14: ____________ (наименование показателя ) | G14: наименование показателя | H14: единица измерения | J14: 2026 год (очередной финансовый год) | K14: 2027 год (1-й год планового периода) | L14: 2028 год (2-й год планового периода) | M14: в процентах | N14: в абсолютных показателях
H15: наимено-вание | I15: код по ОКЕИ | K15: (1-й год планового периода)
A17: 1 | B17: 2 | C17: 3 | D17: 4 | E17: 5 | F17: 6 | G17: 7 | H17: 8 | I17: 9 | J17: 10 | K17: 11 | L17: 12 | M17: 13 | N17: 14
A21: 3.2. Показатели, характеризующие объем государственной услуги
A23: Уникальный номер реестровой записи | B23: Показатель, характеризующий содержание государственной услуги (по справочникам) | E23: Показатель, характеризующий условия (формы) оказания государственной услуги (по справочникам) | G23: Показатель объема государственной услуги | J23: Значение показателя объема государственной услуги | M23: Допустимые (возможные) отклонения от установленных показателей объема государственной услуги
B24: Содержание услуги 1 (наименование показателя ) | C24: Содержание услуги 2 (наименование показателя ) | D24: Содержание услуги 3 (наименование показателя ) | E24: Условия (формы) оказания услуги 1 (Условие 1 для 36 вида деятельности) | F24: Условия (формы) оказания услуги 2 (наименование показателя) | G24: наименование показателя | H24: единица измерения | J24: 2026 год (очередной финансовый год) | K24: 2027 год (1-й год планового периода) | L24: 2028 год (2-й год планового периода) | M24: в процентах | N24: в абсолютных показателях
H25: наименование | I25: код по ОКЕИ | K25: (1-й год планового периода)
A27: 1 | B27: 2 | C27: 3 | D27: 4 | E27: 5 | F27: 6 | G27: 7 | H27: 8 | I27: 9 | J27: 10 | K27: 11 | L27: 12 | M27: 13 | N27: 14
A28: 880900О.99.0.ББ13АА00000 | E28: не указано | G28: число обучающихся | H28: человек | I28: 792 | J28: =80-10 -> 70 | K28: =80-10 -> 70 | L28: =80-10 -> 70 | M28: =ROUND(N28/J28*100,1) -> 4.3 | N28: =ROUNDDOWN(J28*0.05,0) -> 3
R29: =SUM(#REF!) -> #REF! | S29: =SUM(#REF!) -> #REF! | T29: =SUM(#REF!) -> #REF!
A30: 4. Нормативные правовые акты, устанавливающие размер платы (цену, тариф) либо порядок ее (его) установления | R30: =R29+#REF! -> #REF! | S30: =S29+#REF! -> #REF! | T30: =T29+#REF! -> #REF!
A32: Нормативный правовой акт
A33: вид | D33: принявший орган | F33: дата | H33: номер | K33: наименование
A34: 1 | D34: 2 | F34: 3 | H34: 4 | K34: 5
A44: 4.1. Предельные значения цен (тарифов)
A46: Наименование услуги | D46: Цена (тариф), единица измерения
A47: 1 | D47: 2
A50: 5. Порядок оказания государственной услуги
A51: 5.1. Нормативные правовые акты, регулирующие порядок оказания государственной услуги
A53: Федеральный закон от 29.12.2012 №273-ФЗ "Об образовании в Российской Федерации"
A54: Федеральный закон от 24.06.1999 №120-ФЗ "Об основах системы профилактики безнадзорности и правонарушений несовершеннолетних"
A57: (наименование, номер и дата нормативного правового акта)
A59: 5.2. Порядок информирования потенциальных потребителей государственной услуги
A61: Способ информирования | E61: Состав размещаемой (доводимой) информации | M61: Частота обновления информации
A62: 1 | E62: 2 | M62: 3
A63: Информационно-телекоммуникационные сети общего пользования (веб-сайт, веб-портал) | E63: Информация об условиях приема и обучения, образцы требуемых документов; нормативные документы | M63: не реже 1 раза в год
A64: Средства массовой информации | E64: Информация об условиях приема и обучения, образцы требуемых документов; нормативные документы | M64: не реже 1 раза в год
A65: Информационные стенды | E65: Информация об условиях приема и обучения, образцы требуемых документов; нормативные документы | M65: не реже 1 раза в год
A66: Иные предусмотренные способы информирования | E66: Информация об условиях приема и обучения, образцы требуемых документов; нормативные документы | M66: не реже 1 раза в год

Sheet часть 1.5 ПМПК ДО
B1: Часть 1. Сведения об оказываемых государственных услугах
H2: Раздел | I2: 5
B4: 1. Наименование государственной услуги | M4: Код по общероссийскому базовому перечню услуг или региональному перечню государственных (муниципальных) услуг и работ | O4: БВ20
B5: Психолого-медико-педагогическое обследование детей
B6: (из общероссийских базовых перечней услуг или регионального перечня государственных (муниципальных) услуг и работ)
B7: 2. Категории потребителей государственной услуги
B8: Физические лица
B10: 3. Показатели, характеризующие объем и (или) качество государственной услуги
B11: 3.1. Показатели, характеризующие качество государственной услуги
B13: Уникальный номер реестровой записи | C13: Показатель, характеризующий содержание государственной услуги (по справочникам) | F13: Показатель, характеризующий условия (формы) оказания государственной услуги (по справочникам) | H13: Показатель качества государственной услуги | K13: Значения показателей качества государственной услуги | N13: Допустимые (возможные) отклонения от установленных показателей качества государственной услуги
C14: ____________ (наименование показателя ) | D14: ____________ (наименование показателя ) | E14: ____________ (наименование показателя ) | F14: ____________ (наименование показателя ) | G14: ____________ (наименование показателя ) | H14: наименование показателя | I14: единица измерения | K14: 2026 год (очередной финансовый год) | L14: 2027 год (1-й год планового периода) | M14: 2028 год (2-й год планового периода) | N14: в процентах | O14: в абсолютных показателях
I15: наимено-вание | J15: код по ОКЕИ | L15: (1-й год планового периода)
B17: 1 | C17: 2 | D17: 3 | E17: 4 | F17: 5 | G17: 6 | H17: 7 | I17: 8 | J17: 9 | K17: 10 | L17: 11 | M17: 12 | N17: 13 | O17: 14
B21: 3.2. Показатели, характеризующие объем государственной услуги
B23: Уникальный номер реестровой записи | C23: Показатель, характеризующий содержание государственной услуги (по справочникам) | F23: Показатель, характеризующий условия (формы) оказания государственной услуги (по справочникам) | H23: Показатель объема государственной услуги | K23: Значение показателя объема государственной услуги | N23: Допустимые (возможные) отклонения от установленных показателей объема государственной услуги
C24: Содержание услуги 1 (наименование показателя ) | D24: Содержание услуги 2 (наименование показателя ) | E24: Содержание услуги 3 (наименование показателя ) | F24: Условия (формы) оказания услуги 1 (Место получения услуги) | G24: Условия (формы) оказания услуги 2 (наименование показателя) | H24: наименование показателя | I24: единица измерения | K24: 2026 год (очередной финансовый год) | L24: 2027 год (1-й год планового периода) | M24: 2028 год (2-й год планового периода) | N24: в процентах | O24: в абсолютных показателях
I25: наименование | J25: код по ОКЕИ | L25: (1-й год планового периода)
A27: =C27&D27&E27&F27 -> 2345 | B27: 1 | C27: 2 | D27: 3 | E27: 4 | F27: 5 | G27: 6 | H27: 7 | I27: 8 | J27: 9 | K27: 10 | L27: 11 | M27: 12 | N27: 13 | O27: 14
A28: =C28&D28&F28&#REF! -> #REF! | B28: 853212О.99.0.БВ20АА00001 | F28: не указано | H28: число обучающихся | I28: человек | J28: 792 | K28: =90-27 -> 63 | L28: =90-27 -> 63 | M28: =90-27 -> 63 | N28: =ROUND(O28/K28*100,1) -> 4.8 | O28: =ROUNDDOWN(K28*0.05,0) -> 3
S29: =SUM(#REF!) -> #REF! | T29: =SUM(#REF!) -> #REF! | U29: =SUM(#REF!) -> #REF!
B30: 4. Нормативные правовые акты, устанавливающие размер платы (цену, тариф) либо порядок ее (его) установления | S30: =S29+#REF! -> #REF! | T30: =T29+#REF! -> #REF! | U30: =U29+#REF! -> #REF!
B32: Нормативный правовой акт
B33: вид | E33: принявший орган | G33: дата | I33: номер | L33: наименование
B34: 1 | E34: 2 | G34: 3 | I34: 4 | L34: 5
B44: 4.1. Предельные значения цен (тарифов)
B46: Наименование услуги | E46: Цена (тариф), единица измерения
B47: 1 | E47: 2
B50: 5. Порядок оказания государственной услуги
B51: 5.1. Нормативные правовые акты, регулирующие порядок оказания государственной услуги
B53: Федеральный закон от 29.12.2012 №273-ФЗ "Об образовании в Российской Федерации"
B54: Федеральный закон от 24.06.1999 №120-ФЗ "Об основах системы профилактики безнадзорности и правонарушений несовершеннолетних"
B57: (наименование, номер и дата нормативного правового акта)
B59: 5.2. Порядок информирования потенциальных потребителей государственной услуги
B61: Способ информирования | F61: Состав размещаемой (доводимой) информации | N61: Частота обновления информации
B62: 1 | F62: 2 | N62: 3
B63: Информационно-телекоммуникационные сети общего пользования (веб-сайт, веб-портал) | F63: Информация об условиях приема и обучения, образцы требуемых документов; нормативные документы | N63: не реже 1 раза в год
B64: Средства массовой информации | F64: Информация об условиях приема и обучения, образцы требуемых документов; нормативные документы | N64: не реже 1 раза в год
B65: Информационные стенды | F65: Информация об условиях приема и обучения, образцы требуемых документов; нормативные документы | N65: не реже 1 раза в год
B66: Иные предусмотренные способы информирования | F66: Информация об условиях приема и обучения, образцы требуемых документов; нормативные документы | N66: не реже 1 раза в год

Sheet часть 1.6 КРЗ НОО 
C1: Часть 1. Сведения об оказываемых государственных услугах
J2: Раздел | K2: 6
C4: 1. Наименование государственной услуги | O4: Код по общероссийскому базовому перечню услуг или региональному перечню государственных (муниципальных) услуг и работ | Q4: БА86
C5: Коррекционно-развивающая, компенсирующая и логопедическая помощь обучающимся
C6: (из общероссийских базовых перечней услуг или регионального перечня государственных (муниципальных) услуг и работ)
C7: 2. Категории потребителей государственной услуги
C8: Физические лица
C10: 3. Показатели, характеризующие объем и (или) качество государственной услуги
C11: 3.1. Показатели, характеризующие качество государственной услуги
C13: Уникальный номер реестровой записи | E13: Показатель, характеризующий содержание государственной услуги (по справочникам) | H13: Показатель, характеризующий условия (формы) оказания государственной услуги (по справочникам) | J13: Показатель качества государственной услуги | M13: Значения показателей качества государственной услуги | P13: Допустимые (возможные) отклонения от установленных показателей качества государственной услуги
E14: ____________ (наименование показателя ) | F14: ____________ (наименование показателя ) | G14: ____________ (наименование показателя ) | H14: ____________ (наименование показателя ) | I14: ____________ (наименование показателя ) | J14: наименование показателя | K14: единица измерения | M14: 2026 год (очередной финансовый год) | N14: 2027 год (1-й год планового периода) | O14: 2028 год (2-й год планового периода) | P14: в процентах | Q14: в абсолютных показателях
K15: наимено-вание | L15: код по ОКЕИ | N15: (1-й год планового периода)
C17: 1 | E17: 2 | F17: 3 | G17: 4 | H17: 5 | I17: 6 | J17: 7 | K17: 8 | L17: 9 | M17: 10 | N17: 11 | O17: 12 | P17: 13 | Q17: 14
C21: 3.2. Показатели, характеризующие объем государственной услуги
C23: Уникальный номер реестровой записи | E23: Показатель, характеризующий содержание государственной услуги (по справочникам) | H23: Показатель, характеризующий условия (формы) оказания государственной услуги (по справочникам) | J23: Показатель объема государственной услуги | M23: Значение показателя объема государственной услуги | P23: Допустимые (возможные) отклонения от установленных показателей объема государственной услуги
E24: Содержание услуги 1 (наименование показателя ) | F24: Содержание услуги 2 (наименование показателя ) | G24: Содержание услуги 3 (наименование показателя ) | H24: Условия (формы) оказания услуги 1 (Условие 1 для 34 вида деятельности) | I24: Условия (формы) оказания услуги 2 (наименование показателя) | J24: наименование показателя | K24: единица измерения | M24: 2026 год (очередной финансовый год) | N24: 2027 год (1-й год планового периода) | O24: 2028 год (2-й год планового периода) | P24: в процентах | Q24: в абсолютных показателях
K25: наименование | L25: код по ОКЕИ | N25: (1-й год планового периода)
A27: =E27&F27&G27&H27 -> 2345 | C27: 1 | E27: 2 | F27: 3 | G27: 4 | H27: 5 | I27: 6 | J27: 7 | K27: 8 | L27: 9 | M27: 10 | N27: 11 | O27: 12 | P27: 13 | Q27: 14
A28: =E28&F28&H28&#REF! -> #REF! | B28: 1 | C28: 880900О.99.0.БА86АА02000 | H28: не указано | J28: число обучающихся | K28: человек | L28: 792 | M28: =30+4 -> 34 | N28: =30+4 -> 34 | O28: =30+4 -> 34 | P28: =ROUND(Q28/M28*100,1) -> 2.9 | Q28: =ROUNDDOWN(M28*0.05,0) -> 1
U29: =SUM(#REF!) -> #REF! | V29: =SUM(#REF!) -> #REF! | W29: =SUM(#REF!) -> #REF!
C30: 4. Нормативные правовые акты, устанавливающие размер платы (цену, тариф) либо порядок ее (его) установления | U30: =U29+#REF! -> #REF! | V30: =V29+#REF! -> #REF! | W30: =W29+#REF! -> #REF!
C32: Нормативный правовой акт
C33: вид | G33: принявший орган | I33: дата | K33: номер | N33: наименование
C34: 1 | G34: 2 | I34: 3 | K34: 4 | N34: 5
C44: 4.1. Предельные значения цен (тарифов)
C46: Наименование услуги | G46: Цена (тариф), единица измерения
C47: 1 | G47: 2
C50: 5. Порядок оказания государственной услуги
C51: 5.1. Нормативные правовые акты, регулирующие порядок оказания государственной услуги
C53: Федеральный закон от 29.12.2012 №273-ФЗ "Об образовании в Российской Федерации"
C54: Федеральный закон от 24.06.1999 №120-ФЗ "Об основах системы профилактики безнадзорности и правонарушений несовершеннолетних"
C57: (наименование, номер и дата нормативного правового акта)
C59: 5.2. Порядок информирования потенциальных потребителей государственной услуги
C61: Способ информирования | H61: Состав размещаемой (доводимой) информации | P61: Частота обновления информации
C62: 1 | H62: 2 | P62: 3
C63: Информационно-телекоммуникационные сети общего пользования (веб-сайт, веб-портал) | H63: Информация об условиях приема и обучения, образцы требуемых документов; нормативные документы | P63: не реже 1 раза в год
C64: Средства массовой информации | H64: Информация об условиях приема и обучения, образцы требуемых документов; нормативные документы | P64: не реже 1 раза в год
C65: Информационные стенды | H65: Информация об условиях приема и обучения, образцы требуемых документов; нормативные документы | P65: не реже 1 раза в год
C66: Иные предусмотренные способы информирования | H66: Информация об условиях приема и обучения, образцы требуемых документов; нормативные документы | P66: не реже 1 раза в год

Sheet часть 1.7 КРЗ ОО
C1: Часть 1. Сведения об оказываемых государственных услугах
J2: Раздел | K2: 7
C4: 1. Наименование государственной услуги | O4: Код по общероссийскому базовому перечню услуг или региональному перечню государственных (муниципальных) услуг и работ | Q4: ББ00
C5: Коррекционно-развивающая, компенсирующая и логопедическая помощь обучающимся
C6: (из общероссийских базовых перечней услуг или регионального перечня государственных (муниципальных) услуг и работ)
C7: 2. Категории потребителей государственной услуги
C8: Физические лица
C10: 3. Показатели, характеризующие объем и (или) качество государственной услуги
C11: 3.1. Показатели, характеризующие качество государственной услуги
C13: Уникальный номер реестровой записи | E13: Показатель, характеризующий содержание государственной услуги (по справочникам) | H13: Показатель, характеризующий условия (формы) оказания государственной услуги (по справочникам) | J13: Показатель качества государственной услуги | M13: Значения показателей качества государственной услуги | P13: Допустимые (возможные) отклонения от установленных показателей качества государственной услуги
E14: ____________ (наименование показателя ) | F14: ____________ (наименование показателя ) | G14: ____________ (наименование показателя ) | H14: ____________ (наименование показателя ) | I14: ____________ (наименование показателя ) | J14: наименование показателя | K14: единица измерения | M14: 2026 год (очередной финансовый год) | N14: 2027 год (1-й год планового периода) | O14: 2028 год (2-й год планового периода) | P14: в процентах | Q14: в абсолютных показателях
K15: наимено-вание | L15: код по ОКЕИ | N15: (1-й год планового периода)
C17: 1 | E17: 2 | F17: 3 | G17: 4 | H17: 5 | I17: 6 | J17: 7 | K17: 8 | L17: 9 | M17: 10 | N17: 11 | O17: 12 | P17: 13 | Q17: 14
C21: 3.2. Показатели, характеризующие объем государственной услуги
C23: Уникальный номер реестровой записи | E23: Показатель, характеризующий содержание государственной услуги (по справочникам) | H23: Показатель, характеризующий условия (формы) оказания государственной услуги (по справочникам) | J23: Показатель объема государственной услуги | M23: Значение показателя объема государственной услуги | P23: Допустимые (возможные) отклонения от установленных показателей объема государственной услуги
E24: Содержание услуги 1 (наименование показателя ) | F24: Содержание услуги 2 (наименование показателя ) | G24: Содержание услуги 3 (наименование показателя ) | H24: Условия (формы) оказания услуги 1 (Место получения услуги) | I24: Условия (формы) оказания услуги 2 (наименование показателя) | J24: наименование показателя | K24: единица измерения | M24: 2026 год (очередной финансовый год) | N24: 2027 год (1-й год планового периода) | O24: 2028 год (2-й год планового периода) | P24: в процентах | Q24: в абсолютных показателях
K25: наименование | L25: код по ОКЕИ | N25: (1-й год планового периода)
A27: =E27&F27&G27&H27 -> 2345 | C27: 1 | E27: 2 | F27: 3 | G27: 4 | H27: 5 | I27: 6 | J27: 7 | K27: 8 | L27: 9 | M27: 10 | N27: 11 | O27: 12 | P27: 13 | Q27: 14
A28: =E28&F28&H28&#REF! -> #REF! | B28: 1 | C28: 880900О.99.0.ББ00АА02000 | H28: В центре психолого-педагогической, медицинской и социальной помощи | J28: число обучающихся, их родителей (законных представителей) и педагогических работников | K28: человек | L28: 792 | M28: =4-2 -> 2 | N28: =4-2 -> 2 | O28: =4-2 -> 2 | P28: =ROUND(Q28/M28*100,1) -> 0 | Q28: =ROUNDDOWN(M28*0.05,0) -> 0
U29: =SUM(#REF!) -> #REF! | V29: =SUM(#REF!) -> #REF! | W29: =SUM(#REF!) -> #REF!
C30: 4. Нормативные правовые акты, устанавливающие размер платы (цену, тариф) либо порядок ее (его) установления | U30: =U29+#REF! -> #REF! | V30: =V29+#REF! -> #REF! | W30: =W29+#REF! -> #REF!
C32: Нормативный правовой акт
C33: вид | G33: принявший орган | I33: дата | K33: номер | N33: наименование
C34: 1 | G34: 2 | I34: 3 | K34: 4 | N34: 5
C44: 4.1. Предельные значения цен (тарифов)
C46: Наименование услуги | G46: Цена (тариф), единица измерения
C47: 1 | G47: 2
C50: 5. Порядок оказания государственной услуги
C51: 5.1. Нормативные правовые акты, регулирующие порядок оказания государственной услуги
C53: Федеральный закон от 29.12.2012 №273-ФЗ "Об образовании в Российской Федерации"
C57: (наименование, номер и дата нормативного правового акта)
C59: 5.2. Порядок информирования потенциальных потребителей государственной услуги
C61: Способ информирования | H61: Состав размещаемой (доводимой) информации | P61: Частота обновления информации
C62: 1 | H62: 2 | P62: 3
C63: Информационно-телекоммуникационные сети общего пользования (веб-сайт, веб-портал) | H63: Информация об условиях приема и обучения, образцы требуемых документов; нормативные документы | P63: не реже 1 раза в год
C64: Средства массовой информации | H64: Информация об условиях приема и обучения, образцы требуемых документов; нормативные документы | P64: не реже 1 раза в год
C65: Информационные стенды | H65: Информация об условиях приема и обучения, образцы требуемых документов; нормативные документы | P65: не реже 1 раза в год
C66: Иные предусмотренные способы информирования | H66: Информация об условиях приема и обучения, образцы требуемых документов; нормативные документы | P66: не реже 1 раза в год

Sheet часть 1.8 КРЗ ДО
C1: Часть 1. Сведения об оказываемых государственных услугах
J2: Раздел | K2: 8
C4: 1. Наименование государственной услуги | O4: Код по общероссийскому базовому перечню услуг или региональному перечню государственных (муниципальных) услуг и работ | Q4: БВ22
C5: Коррекционно-развивающая, компенсирующая и логопедическая помощь обучающимся
C6: (из общероссийских базовых перечней услуг или регионального перечня государственных (муниципальных) услуг и работ)
C7: 2. Категории потребителей государственной услуги
C8: Физические лица
C10: 3. Показатели, характеризующие объем и (или) качество государственной услуги
C11: 3.1. Показатели, характеризующие качество государственной услуги
C13: Уникальный номер реестровой записи | E13: Показатель, характеризующий содержание государственной услуги (по справочникам) | H13: Показатель, характеризующий условия (формы) оказания государственной услуги (по справочникам) | J13: Показатель качества государственной услуги | M13: Значения показателей качества государственной услуги | P13: Допустимые (возможные) отклонения от установленных показателей качества государственной услуги
E14: ____________ (наименование показателя ) | F14: ____________ (наименование показателя ) | G14: ____________ (наименование показателя ) | H14: ____________ (наименование показателя ) | I14: ____________ (наименование показателя ) | J14: наименование показателя | K14: единица измерения | M14: 2026 год (очередной финансовый год) | N14: 2027 год (1-й год планового периода) | O14: 2028 год (2-й год планового периода) | P14: в процентах | Q14: в абсолютных показателях
K15: наимено-вание | L15: код по ОКЕИ | N15: (1-й год планового периода)
C17: 1 | E17: 2 | F17: 3 | G17: 4 | H17: 5 | I17: 6 | J17: 7 | K17: 8 | L17: 9 | M17: 10 | N17: 11 | O17: 12 | P17: 13 | Q17: 14
C21: 3.2. Показатели, характеризующие объем государственной услуги
C23: Уникальный номер реестровой записи | E23: Показатель, характеризующий содержание государственной услуги (по справочникам) | H23: Показатель, характеризующий условия (формы) оказания государственной услуги (по справочникам) | J23: Показатель объема государственной услуги | M23: Значение показателя объема государственной услуги | P23: Допустимые (возможные) отклонения от установленных показателей объема государственной услуги
E24: Содержание услуги 1 (наименование показателя ) | F24: Содержание услуги 2 (наименование показателя ) | G24: Содержание услуги 3 (наименование показателя ) | H24: Условия (формы) оказания услуги 1 (Место получения услуги) | I24: Условия (формы) оказания услуги 2 (наименование показателя) | J24: наименование показателя | K24: единица измерения | M24: 2026 год (очередной финансовый год) | N24: 2027 год (1-й год планового периода) | O24: 2028 год (2-й год планового периода) | P24: в процентах | Q24: в абсолютных показателях
K25: наименование | L25: код по ОКЕИ | N25: (1-й год планового периода)
A27: =E27&F27&G27&H27 -> 2345 | C27: 1 | E27: 2 | F27: 3 | G27: 4 | H27: 5 | I27: 6 | J27: 7 | K27: 8 | L27: 9 | M27: 10 | N27: 11 | O27: 12 | P27: 13 | Q27: 14
A28: =E28&F28&H28&#REF! -> #REF! | B28: 1 | C28: 853212О.99.0.БВ22АА02001 | H28: В центре психолого-педагогической, медицинской и социальной помощи | J28: число обучающихся | K28: человек | L28: 792 | M28: 124 | N28: 124 | O28: 124 | P28: =ROUND(Q28/M28*100,1) -> 4.8 | Q28: =ROUNDDOWN(M28*0.05,0) -> 6
U29: =SUM(#REF!) -> #REF! | V29: =SUM(#REF!) -> #REF! | W29: =SUM(#REF!) -> #REF!
C30: 4. Нормативные правовые акты, устанавливающие размер платы (цену, тариф) либо порядок ее (его) установления | U30: =U29+#REF! -> #REF! | V30: =V29+#REF! -> #REF! | W30: =W29+#REF! -> #REF!
C32: Нормативный правовой акт
C33: вид | G33: принявший орган | I33: дата | K33: номер | N33: наименование
C34: 1 | G34: 2 | I34: 3 | K34: 4 | N34: 5
C44: 4.1. Предельные значения цен (тарифов)
C46: Наименование услуги | G46: Цена (тариф), единица измерения
C47: 1 | G47: 2
C50: 5. Порядок оказания государственной услуги
C51: 5.1. Нормативные правовые акты, регулирующие порядок оказания государственной услуги
C53: Федеральный закон от 29.12.2012 №273-ФЗ "Об образовании в Российской Федерации"
C54: Федеральный закон Государственная Дума РФ от 24.06.1999 № 120-ФЗ "Об основах системы профилактики безнадзорности и правонарушений несовершеннолетних"
C55: Письмо Минобрнауки России от 10.02.2015 № ВК-268/07 "О совершенствовании деятельности центров психолого-педагогической, медицинской и социальной помощи"
C57: (наименование, номер и дата нормативного правового акта)
C59: 5.2. Порядок информирования потенциальных потребителей государственной услуги
C61: Способ информирования | H61: Состав размещаемой (доводимой) информации | P61: Частота обновления информации
C62: 1 | H62: 2 | P62: 3
C63: Информационно-телекоммуникационные сети общего пользования (веб-сайт, веб-портал) | H63: Информация об условиях приема и обучения, образцы требуемых документов; нормативные документы | P63: не реже 1 раза в год
C64: Средства массовой информации | H64: Информация об условиях приема и обучения, образцы требуемых документов; нормативные документы | P64: не реже 1 раза в год
C65: Информационные стенды | H65: Информация об условиях приема и обучения, образцы требуемых документов; нормативные документы | P65: не реже 1 раза в год
C66: Иные предусмотренные способы информирования | H66: Информация об условиях приема и обучения, образцы требуемых документов; нормативные документы | P66: не реже 1 раза в год

Sheet часть 2.1. Олимп
A1: Часть 2. Сведения о выполняемых работах
G2: Раздел | H2: 1
A4: 1. Наименование работы | M4: Код по региональному перечню государственных (муниципальных) услуг и работ | O4: 0551
A5: Организация и проведение олимпиад, конкурсов, мероприятий, направленных на выявление и развитие у обучающихся интеллектуальных и творческих способностей, способностей к занятиям физической культурой и спортом, интереса к научной (научно-исследовательской) деятельности, творческой деятельности, физкультурно-спортивной деятельности
A6: (из регионального перечня государственных (муниципальных) услуг и работ)
A7: 2. Категории потребителей работы
A8: В интересах общества
A10: 3. Показатели, характеризующие объем и (или) качество работы
A11: 3.1. Показатели, характеризующие качество работы
A13: Уникальный номер реестровой записи | C13: Показатель, характеризующий содержание работы (по справочникам) | F13: Показатель, характеризующий условия (формы) выполнения работы (по справочникам) | H13: Показатель качества работы | K13: Значение показателя качества работы | N13: Допустимые (возможные) отклонения от установленных показателей качества работы
C14: ___________ (наименование показателя ) | D14: ___________ (наименование показателя ) | E14: ___________ (наименование показателя ) | F14: ___________ (наименование показателя ) | G14: ___________ (наименование показателя ) | H14: наименование показателя | I14: единица измерения | K14: 2026 год (очередной финансовый год) | L14: 2027 год (1-й год планового периода) | M14: 2028 год (2-й год планового периода) | N14: в процентах | O14: в абсолютных показателях
I15: наимено-вание | J15: код по ОКЕИ | L15: (1-й год планового периода)
A17: 1 | C17: 2 | D17: 3 | E17: 4 | F17: 5 | G17: 6 | H17: 7 | I17: 8 | J17: 9 | K17: 10 | L17: 11 | M17: 12 | N17: 13 | O17: 14
A18: 850000. Р.86.1.05510002003 | H18: Удовлетворенность потребителей качеством предоставляемых услуг | I18: процент | J18: 744 | K18: 100 | L18: 100 | M18: 100 | N18: =ROUND(O18/K18*100,1) -> 5 | O18: =ROUNDDOWN(K18*0.05,0) -> 5
A20: 3.2. Показатели, характеризующие объем работы
A22: Уникальный номер реестровой записи | B22: Показатель, характеризующий содержание работы (по справочникам) | E22: Показатель, характеризующий условия (формы) выполнения работы (по справочникам) | G22: Показатель объема работы | K22: Значение показателя объема работы | N22: Допустимые (возможные) отклонения от установленных показателей объема работы
B23: Содержание услуги 1 (наименование показателя ) | C23: Содержание услуги 2 (наименование показателя ) | D23: Содержание услуги 3 (наименование показателя ) | E23: Условия (формы) оказания услуги 1 (наименование показателя) | F23: Условия (формы) оказания услуги 2 (наименование показателя) | G23: наименование показателя | H23: единица измерения | J23: описание работы | K23: 2026 год (очередной финансовый год) | L23: 2027 год (1-й год планового периода) | M23: 2028 год (2-й год планового периода) | N23: в процентах | O23: в абсолютных показателях
H24: наименование | I24: код по ОКЕИ | L24: (1-й год планового периода)
A26: 1 | B26: 2 | C26: 3 | D26: 4 | E26: 5 | F26: 6 | G26: 7 | H26: 8 | I26: 9 | J26: 10 | K26: 11 | L26: 12 | M26: 13 | N26: 14 | O26: 15
A27: 850000. Р.86.1.05510002003 | G27: количество мероприятий | H27: единица | I27: 642 | J27: Организация и проведение регионального этапа всероссийской олимпиады школьников | K27: 24 | L27: 24 | M27: 24 | N27: =ROUND(O27/K27*100,1) -> 4.2 | O27: =ROUNDDOWN(K27*0.05,0) -> 1
G28: количество участников мероприятий | H28: человек | I28: 792 | K28: 1750 | L28: 1750 | M28: 1750 | N28: =ROUND(O28/K28*100,1) -> 5 | O28: =ROUNDDOWN(K28*0.05,0) -> 87
G29: количество мероприятий | H29: единица | I29: 642 | J29: Организация и проведение окружной олимпиады школьников по трудовому обучению для лиц с умственной отсталостью | K29: 1 | L29: 1 | M29: 1 | N29: =ROUND(O29/K29*100,1) -> 0 | O29: =ROUNDDOWN(K29*0.05,0) -> 0
G30: количество участников мероприятий | H30: человек | I30: 792 | K30: 40 | L30: 40 | M30: 40 | N30: =ROUND(O30/K30*100,1) -> 5 | O30: =ROUNDDOWN(K30*0.05,0) -> 2
G31: количество мероприятий | H31: единица | I31: 642 | J31: Организация и проведение региональной олимпиады школьников «Умники и умницы Югры» | K31: 6 | L31: 6 | M31: 6 | N31: =ROUND(O31/K31*100,1) -> 0 | O31: =ROUNDDOWN(K31*0.05,0) -> 0
G32: количество участников мероприятий | H32: человек | I32: 792 | K32: 400 | L32: 400 | M32: 400 | N32: =ROUND(O32/K32*100,1) -> 5 | O32: =ROUNDDOWN(K32*0.05,0) -> 20
A34: 4. Нормативные правовые акты, устанавливающие размер платы (цену, тариф) либо порядок ее (его) установления
A36: Нормативный правовой акт
A37: вид | E37: принявший орган | G37: дата | I37: номер | L37: наименование
A38: 1 | E38: 2 | G38: 3 | I38: 4 | L38: 5
A41: 4.1. Предельные значения цен (тарифов)
A43: Наименование услуги | E43: Цена (тариф), единица измерения
A44: 1 | E44: 2

Sheet часть 2.2. ОЗМ
A1: Часть 2. Сведения о выполняемых работах
G2: Раздел | H2: 2
A4: 1. Наименование работы | M4: Код по региональному перечню государственных (муниципальных) услуг и работ | O4: 0562
A5: Организация проведения общественно-значимых мероприятий в сфере образования, науки и молодежной политики
A6: (из регионального перечня государственных (муниципальных) услуг и работ)
A7: 2. Категории потребителей работы
A9: В интересах общества; органы государственной власти; органы местного самоуправления; юридические лица; физические лица
A10: 3. Показатели, характеризующие объем и (или) качество работы
A11: 3.1. Показатели, характеризующие качество работы
A13: Уникальный номер реестровой записи | C13: Показатель, характеризующий содержание работы (по справочникам) | F13: Показатель, характеризующий условия (формы) выполнения работы (по справочникам) | H13: Показатель качества работы | K13: Значение показателя качества работы | N13: Допустимые (возможные) отклонения от установленных показателей качества работы
C14: ___________ (наименование показателя ) | D14: ___________ (наименование показателя ) | E14: ___________ (наименование показателя ) | F14: ___________ (наименование показателя ) | G14: ___________ (наименование показателя ) | H14: наименование показателя | I14: единица измерения | K14: 2026 год (очередной финансовый год) | L14: 2027 год (1-й год планового периода) | M14: 2028 год (2-й год планового периода) | N14: в процентах | O14: в абсолютных показателях
I15: наимено-вание | J15: код по ОКЕИ | L15: (1-й год планового периода)
A17: 1 | C17: 2 | D17: 3 | E17: 4 | F17: 5 | G17: 6 | H17: 7 | I17: 8 | J17: 9 | K17: 10 | L17: 11 | M17: 12 | N17: 13 | O17: 14
A20: 3.2. Показатели, характеризующие объем работы
A22: Уникальный номер реестровой записи | B22: Показатель, характеризующий содержание работы (по справочникам) | E22: Показатель, характеризующий условия (формы) выполнения работы (по справочникам) | G22: Показатель объема работы | K22: Значение показателя объема работы | N22: Допустимые (возможные) отклонения от установленных показателей объема работы
B23: Содержание услуги 1 (Организация проведения мероприятий ) | C23: Содержание услуги 2 (Организация проведения мероприятий) | D23: Содержание услуги 3 (наименование показателя ) | E23: Условия (формы) оказания услуги 1 (наименование показателя) | F23: Условия (формы) оказания услуги 2 (наименование показателя) | G23: наименование показателя | H23: единица измерения | J23: описание работы | K23: 2026 год (очередной финансовый год) | L23: 2027 год (1-й год планового периода) | M23: 2028 год (2-й год планового периода) | N23: в процентах | O23: в абсолютных показателях
H24: наименование | I24: код по ОКЕИ | L24: (1-й год планового периода)
A26: 1 | B26: 2 | C26: 3 | D26: 4 | E26: 5 | F26: 6 | G26: 7 | H26: 8 | I26: 9 | J26: 10 | K26: 11 | L26: 12 | M26: 13 | N26: 14 | O26: 15
A27: 852300.Р.86.1.05620002005 | B27: организация проведения мероприятий | C27: вспомогательная деятельность в области государственного управления | G27: количество мероприятий | H27: штука | I27: 796 | J27: Информационное, организационное, методическое сопровождение проектов в области образования | K27: 1 | L27: 1 | M27: 1 | N27: =ROUND(O27/K27*100,1) -> 0 | O27: =ROUNDDOWN(K27*0.05,0) -> 0
A28: 852300.Р.86.1.05620002005 | B28: организация проведения мероприятий | C28: вспомогательная деятельность в области государственного управления | G28: количество мероприятий | H28: штука | I28: 796 | J28: Непрерывное повышение профессионального мастерства педагогических работников | K28: 1 | L28: 1 | M28: 1 | N28: =ROUND(O28/K28*100,1) -> 0 | O28: =ROUNDDOWN(K28*0.05,0) -> 0
A29: 852300.Р.86.1.05620002005 | B29: организация проведения мероприятий | C29: вспомогательная деятельность в области государственного управления | G29: количество мероприятий | H29: штука | I29: 796 | J29: Обеспечение участия во всероссийских мероприятиях участников образовательного процесса | K29: 1 | L29: 1 | M29: 1 | N29: =ROUND(O29/K29*100,1) -> 0 | O29: =ROUNDDOWN(K29*0.05,0) -> 0
A30: 852300.Р.86.1.05620002005 | B30: организация проведения мероприятий | C30: вспомогательная деятельность в области государственного управления | G30: количество мероприятий | H30: штука | I30: 796 | J30: Профилактика деструктивных проявлений несовершеннолетних | K30: 1 | L30: 1 | M30: 1 | N30: =ROUND(O30/K30*100,1) -> 0 | O30: =ROUNDDOWN(K30*0.05,0) -> 0
A31: 852300.Р.86.1.05620002005 | B31: организация проведения мероприятий | C31: вспомогательная деятельность в области государственного управления | G31: количество мероприятий | H31: штука | I31: 796 | J31: Организация и сопровождение реализации региональных проектов Национального проекта «Молодежь и дети», федеральных проектов | K31: 1 | L31: 1 | M31: 1 | N31: =ROUND(O31/K31*100,1) -> 0 | O31: =ROUNDDOWN(K31*0.05,0) -> 0
A32: 852300.Р.86.1.05620002005 | B32: организация проведения мероприятий | C32: вспомогательная деятельность в области государственного управления | G32: количество мероприятий | H32: штука | I32: 796 | J32: Проведение Августовского совещания педагогических работников Ханты-Мансийского автономного округа – Югры | K32: 1 | L32: 1 | M32: 1 | N32: =ROUND(O32/K32*100,1) -> 0 | O32: =ROUNDDOWN(K32*0.05,0) -> 0
A33: 852300.Р.86.1.05620002005 | B33: организация проведения мероприятий | C33: вспомогательная деятельность в области государственного управления | G33: количество мероприятий | H33: штука | I33: 796 | J33: Проведение Форума инновационных образовательных практик «Край родной – Моя Югра» | K33: 1 | L33: 0 | M33: 0 | N33: =ROUND(O33/K33*100,1) -> 0 | O33: =ROUNDDOWN(K33*0.05,0) -> 0
A35: 4. Нормативные правовые акты, устанавливающие размер платы (цену, тариф) либо порядок ее (его) установления
A37: Нормативный правовой акт
A38: вид | E38: принявший орган | G38: дата | I38: номер | L38: наименование
A39: 1 | E39: 2 | G39: 3 | I39: 4 | L39: 5
A42: 4.1. Предельные значения цен (тарифов)
A44: Наименование услуги | E44: Цена (тариф), единица измерения
A45: 1 | E45: 2

Sheet часть 2.3. ОК
A1: Часть 2. Сведения о выполняемых работах
G2: Раздел | H2: 3
A4: 1. Наименование работы | M4: Код по региональному перечню государственных (муниципальных) услуг и работ | O4: 0705
A5: Оценка качества образования
A6: (из регионального перечня государственных (муниципальных) услуг и работ)
A7: 2. Категории потребителей работы
A9: юридические лица
A10: 3. Показатели, характеризующие объем и (или) качество работы
A11: 3.1. Показатели, характеризующие качество работы
A13: Уникальный номер реестровой записи | C13: Показатель, характеризующий содержание работы (по справочникам) | F13: Показатель, характеризующий условия (формы) выполнения работы (по справочникам) | H13: Показатель качества работы | K13: Значение показателя качества работы | N13: Допустимые (возможные) отклонения от установленных показателей качества работы
C14: ___________ (наименование показателя ) | D14: ___________ (наименование показателя ) | E14: ___________ (наименование показателя ) | F14: ___________ (наименование показателя ) | G14: ___________ (наименование показателя ) | H14: наименование показателя | I14: единица измерения | K14: 2026 год (очередной финансовый год) | L14: 2027 год (1-й год планового периода) | M14: 2028 год (2-й год планового периода) | N14: в процентах | O14: в абсолютных показателях
I15: наимено-вание | J15: код по ОКЕИ | L15: (1-й год планового периода)
A17: 1 | C17: 2 | D17: 3 | E17: 4 | F17: 5 | G17: 6 | H17: 7 | I17: 8 | J17: 9 | K17: 10 | L17: 11 | M17: 12 | N17: 13 | O17: 14
A20: 3.2. Показатели, характеризующие объем работы
A22: Уникальный номер реестровой записи | B22: Показатель, характеризующий содержание работы (по справочникам) | E22: Показатель, характеризующий условия (формы) выполнения работы (по справочникам) | G22: Показатель объема работы | K22: Значение показателя объема работы | N22: Допустимые (возможные) отклонения от установленных показателей объема работы
B23: Содержание услуги 1 (наименование показателя ) | C23: Содержание услуги 2 (наименование показателя ) | D23: Содержание услуги 3 (наименование показателя ) | E23: Условия (формы) оказания услуги 1 (наименование показателя) | F23: Условия (формы) оказания услуги 2 (наименование показателя) | G23: наименование показателя | H23: единица измерения | J23: описание работы | K23: 2026 год (очередной финансовый год) | L23: 2027 год (1-й год планового периода) | M23: 2028 год (2-й год планового периода) | N23: в процентах | O23: в абсолютных показателях
H24: наименование | I24: код по ОКЕИ | L24: (1-й год планового периода)
A26: 1 | B26: 2 | C26: 3 | D26: 4 | E26: 5 | F26: 6 | G26: 7 | H26: 8 | I26: 9 | J26: 10 | K26: 11 | L26: 12 | M26: 13 | N26: 14 | O26: 15
A27: 850000.Р.86.1.07050210002 | G27: количество мероприятий | H27: штука | I27: 796 | J27: Организация проведения оценки качества образования | K27: 1 | L27: 1 | M27: 1 | N27: =ROUND(O27/K27*100,1) -> 0 | O27: =ROUNDDOWN(K27*0.05,0) -> 0
A28: 850000.Р.86.1.07050210002 | G28: количество экспертных заключений | H28: единица | I28: 642 | J28: Аттестация педагогических кадров на квалификационную категорию | K28: 5000 | L28: 5000 | M28: 5000 | N28: =ROUND(O28/K28*100,1) -> 5 | O28: =ROUNDDOWN(K28*0.05,0) -> 250
A30: 4. Нормативные правовые акты, устанавливающие размер платы (цену, тариф) либо порядок ее (его) установления
A32: Нормативный правовой акт
A33: вид | E33: принявший орган | G33: дата | I33: номер | L33: наименование
A34: 1 | E34: 2 | G34: 3 | I34: 4 | L34: 5
A37: 4.1. Предельные значения цен (тарифов)
A39: Наименование услуги | E39: Цена (тариф), единица измерения
A40: 1 | E40: 2

Sheet часть 2.4. ИТО
A1: Часть 2. Сведения о выполняемых работах
G2: Раздел | H2: 4
A4: 1. Наименование работы | M4: Код по региональному перечню государственных (муниципальных) услуг и работ | O4: 0701
A5: Информационно-технологическое обеспечение управления системой образования
A6: (из регионального перечня государственных (муниципальных) услуг и работ)
A7: 2. Категории потребителей работы
A8: Органы государственной власти; органы местного самоуправления; юридические лица; физические лица
A10: 3. Показатели, характеризующие объем и (или) качество работы
A11: 3.1. Показатели, характеризующие качество работы
A13: Уникальный номер реестровой записи | C13: Показатель, характеризующий содержание работы (по справочникам) | F13: Показатель, характеризующий условия (формы) выполнения работы (по справочникам) | H13: Показатель качества работы | K13: Значение показателя качества работы | N13: Допустимые (возможные) отклонения от установленных показателей качества работы
